BEGIN:VCALENDAR
VERSION:2.0
PRODID:SchoolNow
CALSCALE:GREGORIAN
BEGIN:VEVENT
UID:9fe088f4-b8ed-11f0-bc13-0a58a9feac02
DTSTAMP:20260420T154012Z
SUMMARY:JV Basketball @ St. Francis
LOCATION:St Francis High School Football Field\, 1885 Miramonte Ave\, Mount
 ain View\, CA 94040\, USA
URL;VALUE=URI:https://www.ndsj.org/student-life/calendar/8774088/jv-basketb
 all-st-francis
DTSTART:20260107T010000Z
DTEND:20260107T023000Z
END:VEVENT
END:VCALENDAR
