BEGIN:VCALENDAR
VERSION:2.0
PRODID:SchoolNow
CALSCALE:GREGORIAN
BEGIN:VEVENT
UID:9fe08692-b8ed-11f0-adeb-0a58a9feac02
DTSTAMP:20260420T154012Z
SUMMARY:Varsity Basketball @ St. Francis
LOCATION:Saint Francis High School\, 1885 Miramonte Ave\, Mountain View\, C
 A 94040\, USA
URL;VALUE=URI:https://www.ndsj.org/student-life/calendar/8774086/varsity-ba
 sketball-st-francis
DTSTART:20260107T023000Z
DTEND:20260107T040000Z
END:VEVENT
END:VCALENDAR
