BEGIN:VCALENDAR
VERSION:2.0
PRODID:SchoolNow
CALSCALE:GREGORIAN
BEGIN:VEVENT
UID:9fe0832c-b8ed-11f0-8e87-0a58a9feac02
DTSTAMP:20260420T154012Z
SUMMARY:Frosh Basketball @ St. Francis
LOCATION:Saint Francis High School\, 1885 Miramonte Ave\, Mountain View\, C
 A 94040\, USA
URL;VALUE=URI:https://www.ndsj.org/student-life/calendar/8774083/frosh-bask
 etball-st-francis
DTSTART:20260106T233000Z
DTEND:20260107T010000Z
END:VEVENT
END:VCALENDAR
