BEGIN:VCALENDAR
VERSION:2.0
PRODID:SchoolNow
CALSCALE:GREGORIAN
BEGIN:VEVENT
UID:9fe080b6-b8ed-11f0-81ab-0a58a9feac02
DTSTAMP:20260420T154012Z
SUMMARY:Varsity Basketball vs. Priory
LOCATION:Meeting Space-JB Hall- GYM (does not include STAGE or AV support) 
 (700)
URL;VALUE=URI:https://www.ndsj.org/student-life/calendar/8774081/varsity-ba
 sketball-vs-priory
DTSTART:20260130T023000Z
DTEND:20260130T040000Z
END:VEVENT
END:VCALENDAR
