BEGIN:VCALENDAR
VERSION:2.0
PRODID:SchoolNow
CALSCALE:GREGORIAN
BEGIN:VEVENT
UID:9fe07e72-b8ed-11f0-b6f8-0a58a9feac02
DTSTAMP:20260420T154012Z
SUMMARY:Varsity Basketball vs. Pinewood
LOCATION:Meeting Space-JB Hall- GYM (does not include STAGE or AV support) 
 (700)
URL;VALUE=URI:https://www.ndsj.org/student-life/calendar/8774080/varsity-ba
 sketball-vs-pinewood
DTSTART:20260122T023000Z
DTEND:20260122T040000Z
END:VEVENT
END:VCALENDAR
