BEGIN:VCALENDAR
VERSION:2.0
PRODID:SchoolNow
CALSCALE:GREGORIAN
BEGIN:VEVENT
UID:9fe07580-b8ed-11f0-8bc0-0a58a9feac02
DTSTAMP:20260420T093510Z
SUMMARY:Varsity Basketball @ Menlo
LOCATION:Menlo School\, 50 Valparaiso Ave\, Atherton\, CA 94027\, USA
URL;VALUE=URI:https://www.ndsj.org/student-life/calendar/8774078/varsity-ba
 sketball-menlo
DTSTART:20260218T013000Z
DTEND:20260218T030000Z
END:VEVENT
END:VCALENDAR
