BEGIN:VCALENDAR
VERSION:2.0
PRODID:SchoolNow
CALSCALE:GREGORIAN
BEGIN:VEVENT
UID:9fe073a0-b8ed-11f0-91ac-0a58a9feac02
DTSTAMP:20260420T154012Z
SUMMARY:Varsity Basketball @ Notre Dame Belmont
LOCATION:Notre Dame High School Belmont\, 1540 Ralston Ave\, Belmont\, CA 9
 4002\, USA
URL;VALUE=URI:https://www.ndsj.org/student-life/calendar/8774077/varsity-ba
 sketball-notre-dame-belmont
DTSTART:20260124T013000Z
DTEND:20260124T030000Z
END:VEVENT
END:VCALENDAR
