BEGIN:VCALENDAR
VERSION:2.0
PRODID:SchoolNow
CALSCALE:GREGORIAN
BEGIN:VEVENT
UID:9fe06d2e-b8ed-11f0-a671-0a58a9feac02
DTSTAMP:20260420T154012Z
SUMMARY:Varsity Basketball vs. Menlo
LOCATION:Meeting Space-JB Hall- GYM (does not include STAGE or AV support) 
 (700)
URL;VALUE=URI:https://www.ndsj.org/student-life/calendar/8774075/varsity-ba
 sketball-vs-menlo
DTSTART:20260128T023000Z
DTEND:20260128T040000Z
END:VEVENT
END:VCALENDAR
