BEGIN:VCALENDAR
VERSION:2.0
PRODID:SchoolNow
CALSCALE:GREGORIAN
BEGIN:VEVENT
UID:9f87309c-b8ed-11f0-ab06-0a58a9feac02
DTSTAMP:20260420T093510Z
SUMMARY:Varsity Basketball @ Harker
LOCATION:The Harker School - Upper School Campus\, 500 Saratoga Ave\, San J
 ose\, CA 95129\, USA
URL;VALUE=URI:https://www.ndsj.org/student-life/calendar/8774072/varsity-ba
 sketball-harker
DTSTART:20260207T013000Z
DTEND:20260207T030000Z
END:VEVENT
END:VCALENDAR
