BEGIN:VCALENDAR
VERSION:2.0
PRODID:SchoolNow
CALSCALE:GREGORIAN
BEGIN:VEVENT
UID:9f872f16-b8ed-11f0-8653-0a58a9feac02
DTSTAMP:20260420T093510Z
SUMMARY:Varsity Basketball vs. Notre Dame Belmont (SENIOR NIGHT!)
LOCATION:Meeting Space-JB Hall- GYM (does not include STAGE or AV support) 
 (700)
URL;VALUE=URI:https://www.ndsj.org/student-life/calendar/8774071/varsity-ba
 sketball-vs-notre-dame-belmont-senior-night
DTSTART:20260213T023000Z
DTEND:20260213T040000Z
END:VEVENT
END:VCALENDAR
