BEGIN:VCALENDAR
VERSION:2.0
PRODID:SchoolNow
CALSCALE:GREGORIAN
BEGIN:VEVENT
UID:9f872962-b8ed-11f0-a05b-0a58a9feac02
DTSTAMP:20260420T093510Z
SUMMARY:JV Basketball @ Menlo
LOCATION:Menlo School\, 50 Valparaiso Ave\, Atherton\, CA 94027\, USA
URL;VALUE=URI:https://www.ndsj.org/student-life/calendar/8774068/jv-basketb
 all-menlo
DTSTART:20260218T000000Z
DTEND:20260218T013000Z
END:VEVENT
END:VCALENDAR
