BEGIN:VCALENDAR
VERSION:2.0
PRODID:SchoolNow
CALSCALE:GREGORIAN
BEGIN:VEVENT
UID:9f872598-b8ed-11f0-9259-0a58a9feac02
DTSTAMP:20260420T093510Z
SUMMARY:JV Basketball vs. Notre Dame Belmont
LOCATION:Meeting Space-JB Hall- GYM (does not include STAGE or AV support) 
 (700)
URL;VALUE=URI:https://www.ndsj.org/student-life/calendar/8774066/jv-basketb
 all-vs-notre-dame-belmont
DTSTART:20260213T010000Z
DTEND:20260213T023000Z
END:VEVENT
END:VCALENDAR
