BEGIN:VCALENDAR
VERSION:2.0
PRODID:SchoolNow
CALSCALE:GREGORIAN
BEGIN:VEVENT
UID:9f87200c-b8ed-11f0-82a1-0a58a9feac02
DTSTAMP:20260420T093510Z
SUMMARY:Varsity Basketball @ Pinewood
LOCATION:Pinewood School | Upper Campus | Grades 7-12\, 26800 Fremont Rd\, 
 Los Altos Hills\, CA 94022\, USA
URL;VALUE=URI:https://www.ndsj.org/student-life/calendar/8774064/varsity-ba
 sketball-pinewood
DTSTART:20260211T030000Z
DTEND:20260211T043000Z
END:VEVENT
END:VCALENDAR
