BEGIN:VCALENDAR
VERSION:2.0
PRODID:SchoolNow
CALSCALE:GREGORIAN
BEGIN:VEVENT
UID:b9f6d320-b6bc-11f0-9b20-0a58a9feac02
DTSTAMP:20260420T154012Z
SUMMARY:Frosh/Soph Basketball vs. Granada Islamic School
URL;VALUE=URI:https://www.ndsj.org/student-life/calendar/8766383/frosh-soph
 -basketball-vs-granada-islamic-school
DTSTART:20260128T000000Z
DTEND:20260128T010000Z
END:VEVENT
END:VCALENDAR
