BEGIN:VCALENDAR
VERSION:2.0
PRODID:SchoolNow
CALSCALE:GREGORIAN
BEGIN:VEVENT
UID:bd5c8be6-b689-11f0-916a-0affeaead653
DTSTAMP:20260420T093510Z
SUMMARY:Varsity Soccer vs. Notre Dame Belmont
LOCATION:Watson Park Soccer Field\, 24TH N 9th St\, San Jose\, CA 95112\, U
 SA
URL;VALUE=URI:https://www.ndsj.org/student-life/calendar/8765812/varsity-so
 ccer-vs-notre-dame-belmont
DTSTART:20260207T003000Z
DTEND:20260207T020000Z
END:VEVENT
END:VCALENDAR
