BEGIN:VCALENDAR
VERSION:2.0
PRODID:SchoolNow
CALSCALE:GREGORIAN
BEGIN:VEVENT
UID:bd5c8b00-b689-11f0-a524-0affeaead653
DTSTAMP:20260420T093510Z
SUMMARY:JV Soccer vs. Notre Dame Belmont
LOCATION:Del Monte Park\, 806 W Home St\, San Jose\, CA 95126\, USA
URL;VALUE=URI:https://www.ndsj.org/student-life/calendar/8765811/jv-soccer-
 vs-notre-dame-belmont
DTSTART:20260207T003000Z
DTEND:20260207T020000Z
END:VEVENT
END:VCALENDAR
