BEGIN:VCALENDAR
VERSION:2.0
PRODID:SchoolNow
CALSCALE:GREGORIAN
BEGIN:VEVENT
UID:bd5c8a10-b689-11f0-b68b-0affeaead653
DTSTAMP:20260420T093510Z
SUMMARY:Varsity Soccer vs. Crystal (SENIOR NIGHT!)
LOCATION:Del Monte Park\, 806 W Home St\, San Jose\, CA 95126\, USA
URL;VALUE=URI:https://www.ndsj.org/student-life/calendar/8765810/varsity-so
 ccer-vs-crystal-senior-night
DTSTART:20260214T003000Z
DTEND:20260214T020000Z
END:VEVENT
END:VCALENDAR
