BEGIN:VCALENDAR
VERSION:2.0
PRODID:SchoolNow
CALSCALE:GREGORIAN
BEGIN:VEVENT
UID:bd5c8920-b689-11f0-9658-0affeaead653
DTSTAMP:20260420T154012Z
SUMMARY:Varsity Soccer @ Sacred Heart Schools\, Atherton
LOCATION:Sacred Heart Schools\, Atherton\, 150 Valparaiso Ave\, Atherton\, 
 CA 94027\, USA
URL;VALUE=URI:https://www.ndsj.org/student-life/calendar/8765809/varsity-so
 ccer-sacred-heart-schools-atherton
DTSTART:20260129T233000Z
DTEND:20260130T010000Z
END:VEVENT
END:VCALENDAR
