BEGIN:VCALENDAR
VERSION:2.0
PRODID:SchoolNow
CALSCALE:GREGORIAN
BEGIN:VEVENT
UID:bd5c872c-b689-11f0-bb80-0affeaead653
DTSTAMP:20260420T154012Z
SUMMARY:Varsity Soccer @ Menlo
LOCATION:Wunderlich Field\, 65 Alejandra Ave\, Atherton\, CA 94027\, USA
URL;VALUE=URI:https://www.ndsj.org/student-life/calendar/8765807/varsity-so
 ccer-menlo
DTSTART:20260127T224500Z
DTEND:20260128T001500Z
END:VEVENT
END:VCALENDAR
