BEGIN:VCALENDAR
VERSION:2.0
PRODID:SchoolNow
CALSCALE:GREGORIAN
BEGIN:VEVENT
UID:bd5c8164-b689-11f0-9094-0affeaead653
DTSTAMP:20260420T154012Z
SUMMARY:JV Soccer vs. Sacred Heart Schools\, Atherton
LOCATION:Del Monte Park\, 806 W Home St\, San Jose\, CA 95126\, USA
URL;VALUE=URI:https://www.ndsj.org/student-life/calendar/8765804/jv-soccer-
 vs-sacred-heart-schools-atherton
DTSTART:20260124T003000Z
DTEND:20260124T020000Z
END:VEVENT
END:VCALENDAR
