BEGIN:VCALENDAR
VERSION:2.0
PRODID:SchoolNow
CALSCALE:GREGORIAN
BEGIN:VEVENT
UID:cf312446-b524-11f0-a982-0efc55d8a43f
DTSTAMP:20260420T154012Z
SUMMARY:Varsity Soccer vs. The King's Academy
LOCATION:Watson Park Soccer Field\, 24TH N 9th St\, San Jose\, CA 95112\, U
 SA
URL;VALUE=URI:https://www.ndsj.org/student-life/calendar/8760654/varsity-so
 ccer-vs-the-kings-academy
DTSTART:20260117T003000Z
DTEND:20260117T020000Z
END:VEVENT
END:VCALENDAR
