BEGIN:VCALENDAR
VERSION:2.0
PRODID:SchoolNow
CALSCALE:GREGORIAN
BEGIN:VEVENT
UID:cf312310-b524-11f0-94ef-0efc55d8a43f
DTSTAMP:20260420T154012Z
SUMMARY:Varsity Soccer @ Notre Dame Belmont
LOCATION:Notre Dame High School Belmont\, 1540 Ralston Ave\, Belmont\, CA 9
 4002\, USA
URL;VALUE=URI:https://www.ndsj.org/student-life/calendar/8760653/varsity-so
 ccer-notre-dame-belmont
DTSTART:20260113T233000Z
DTEND:20260114T010000Z
END:VEVENT
END:VCALENDAR
