BEGIN:VCALENDAR
VERSION:2.0
PRODID:SchoolNow
CALSCALE:GREGORIAN
BEGIN:VEVENT
UID:cf311ef6-b524-11f0-9255-0efc55d8a43f
DTSTAMP:20260420T154012Z
SUMMARY:JV Soccer @ Notre Dame Belmont
LOCATION:Crystal Springs Uplands School - Middle School\, 10 Davis Dr\, Bel
 mont\, CA 94002\, USA
URL;VALUE=URI:https://www.ndsj.org/student-life/calendar/8760652/jv-soccer-
 notre-dame-belmont
DTSTART:20260113T234500Z
DTEND:20260114T011500Z
END:VEVENT
END:VCALENDAR
