BEGIN:VCALENDAR
VERSION:2.0
PRODID:SchoolNow
CALSCALE:GREGORIAN
BEGIN:VEVENT
UID:cf311e1a-b524-11f0-92b4-0efc55d8a43f
DTSTAMP:20260420T154012Z
SUMMARY:Varsity Soccer @ Soquel
LOCATION:Soquel High School\, 401 Soquel San Jose Rd\, Soquel\, CA 95073\, 
 USA
URL;VALUE=URI:https://www.ndsj.org/student-life/calendar/8760651/varsity-so
 ccer-soquel
DTSTART:20260107T020000Z
DTEND:20260107T033000Z
END:VEVENT
END:VCALENDAR
