BEGIN:VCALENDAR
VERSION:2.0
PRODID:SchoolNow
CALSCALE:GREGORIAN
BEGIN:VEVENT
UID:cf311d3e-b524-11f0-b79f-0efc55d8a43f
DTSTAMP:20260420T154012Z
SUMMARY:JV Soccer @ Soquel
LOCATION:Soquel High School\, 401 Soquel San Jose Rd\, Soquel\, CA 95073\, 
 USA
URL;VALUE=URI:https://www.ndsj.org/student-life/calendar/8760650/jv-soccer-
 soquel
DTSTART:20260107T000000Z
DTEND:20260107T013000Z
END:VEVENT
END:VCALENDAR
