BEGIN:VCALENDAR
VERSION:2.0
PRODID:SchoolNow
CALSCALE:GREGORIAN
BEGIN:VEVENT
UID:1c5cd686-55ce-11f0-a31f-0a58a9feac02
DTSTAMP:20260420T093510Z
SUMMARY:Spring Sports Athletic Recognition Night
URL;VALUE=URI:https://www.ndsj.org/student-life/calendar/8370062/spring-spo
 rts-athletic-recognition-night
DTSTART:20260520T010000Z
DTEND:20260520T030000Z
END:VEVENT
END:VCALENDAR
