BEGIN:VCALENDAR
VERSION:2.0
PRODID:SchoolNow
CALSCALE:GREGORIAN
BEGIN:VEVENT
UID:1c5cd4b0-55ce-11f0-ac52-0a58a9feac02
DTSTAMP:20260420T093510Z
SUMMARY:Winter Sports Athletic Recognition Night
LOCATION:Notre Dame High School\, 596 S Second St\, San Jose\, CA 95112\, U
 SA\, Meeting Space-JB Hall - STAGE (Does not include GYM)\, Meeting Space-
 JB Hall- GYM (does not include STAGE or AV support) (700)
URL;VALUE=URI:https://www.ndsj.org/student-life/calendar/8370061/winter-spo
 rts-athletic-recognition-night
DTSTART:20260320T010000Z
DTEND:20260320T030000Z
END:VEVENT
END:VCALENDAR
