BEGIN:VCALENDAR
VERSION:2.0
PRODID:SchoolNow
CALSCALE:GREGORIAN
BEGIN:VEVENT
UID:1c5cd38e-55ce-11f0-8bcc-0a58a9feac02
DTSTAMP:20260420T093510Z
SUMMARY:Spring Sports Info Night
LOCATION:Donnelly-D107\, Donnelly-D105\, Meeting Space-Learning Commons (li
 brary) (175)
URL;VALUE=URI:https://www.ndsj.org/student-life/calendar/8370060/spring-spo
 rts-info-night
DTSTART:20260226T023000Z
DTEND:20260226T040000Z
END:VEVENT
END:VCALENDAR
